BEGIN:VCALENDAR
VERSION:2.0
PRODID:-//RuF Westerende - ECPv6.15.20//NONSGML v1.0//EN
CALSCALE:GREGORIAN
METHOD:PUBLISH
X-ORIGINAL-URL:https://ruf-westerende.com
X-WR-CALDESC:Veranstaltungen für RuF Westerende
REFRESH-INTERVAL;VALUE=DURATION:PT1H
X-Robots-Tag:noindex
X-PUBLISHED-TTL:PT1H
BEGIN:VTIMEZONE
TZID:Europe/Berlin
BEGIN:DAYLIGHT
TZOFFSETFROM:+0100
TZOFFSETTO:+0200
TZNAME:CEST
DTSTART:20240331T010000
END:DAYLIGHT
BEGIN:STANDARD
TZOFFSETFROM:+0200
TZOFFSETTO:+0100
TZNAME:CET
DTSTART:20241027T010000
END:STANDARD
BEGIN:DAYLIGHT
TZOFFSETFROM:+0100
TZOFFSETTO:+0200
TZNAME:CEST
DTSTART:20250330T010000
END:DAYLIGHT
BEGIN:STANDARD
TZOFFSETFROM:+0200
TZOFFSETTO:+0100
TZNAME:CET
DTSTART:20251026T010000
END:STANDARD
BEGIN:DAYLIGHT
TZOFFSETFROM:+0100
TZOFFSETTO:+0200
TZNAME:CEST
DTSTART:20260329T010000
END:DAYLIGHT
BEGIN:STANDARD
TZOFFSETFROM:+0200
TZOFFSETTO:+0100
TZNAME:CET
DTSTART:20261025T010000
END:STANDARD
END:VTIMEZONE
BEGIN:VEVENT
DTSTART;VALUE=DATE:20250823
DTEND;VALUE=DATE:20250825
DTSTAMP:20260420T012116
CREATED:20250813T104817Z
LAST-MODIFIED:20250813T104817Z
UID:1856-1755907200-1756079999@ruf-westerende.com
SUMMARY:Sommer-Zeltlager
DESCRIPTION:
URL:https://ruf-westerende.com/event/sommer-zeltlager/
LOCATION:RFV Westerende\, Westerenderstr. 11\, 26532 Westerende/ Großheide
ORGANIZER;CN="Bezirksverband Ostfriesland":MAILTO:bvostfriesland1@ewe.net
END:VEVENT
END:VCALENDAR