BEGIN:VCALENDAR
VERSION:2.0
PRODID:-//RuF Westerende - ECPv6.15.20//NONSGML v1.0//EN
CALSCALE:GREGORIAN
METHOD:PUBLISH
X-WR-CALNAME:RuF Westerende
X-ORIGINAL-URL:https://ruf-westerende.com
X-WR-CALDESC:Veranstaltungen für RuF Westerende
REFRESH-INTERVAL;VALUE=DURATION:PT1H
X-Robots-Tag:noindex
X-PUBLISHED-TTL:PT1H
BEGIN:VTIMEZONE
TZID:Europe/Berlin
BEGIN:DAYLIGHT
TZOFFSETFROM:+0100
TZOFFSETTO:+0200
TZNAME:CEST
DTSTART:20230326T010000
END:DAYLIGHT
BEGIN:STANDARD
TZOFFSETFROM:+0200
TZOFFSETTO:+0100
TZNAME:CET
DTSTART:20231029T010000
END:STANDARD
BEGIN:DAYLIGHT
TZOFFSETFROM:+0100
TZOFFSETTO:+0200
TZNAME:CEST
DTSTART:20240331T010000
END:DAYLIGHT
BEGIN:STANDARD
TZOFFSETFROM:+0200
TZOFFSETTO:+0100
TZNAME:CET
DTSTART:20241027T010000
END:STANDARD
BEGIN:DAYLIGHT
TZOFFSETFROM:+0100
TZOFFSETTO:+0200
TZNAME:CEST
DTSTART:20250330T010000
END:DAYLIGHT
BEGIN:STANDARD
TZOFFSETFROM:+0200
TZOFFSETTO:+0100
TZNAME:CET
DTSTART:20251026T010000
END:STANDARD
END:VTIMEZONE
BEGIN:VEVENT
DTSTART;VALUE=DATE:20241102
DTEND;VALUE=DATE:20241104
DTSTAMP:20260420T171845
CREATED:20240918T174951Z
LAST-MODIFIED:20240918T174958Z
UID:1267-1730505600-1730678399@ruf-westerende.com
SUMMARY:Dressurlehrgang mit Kai Mark Sebastian
DESCRIPTION:
URL:https://ruf-westerende.com/event/dressurlehrgang-mit-kai-mark-sebastian/
LOCATION:RFV Westerende\, Westerenderstr. 11\, 26532 Westerende/ Großheide
ORGANIZER;CN="RFV Westerende":MAILTO:rjakobs@t-online.de
END:VEVENT
END:VCALENDAR