BEGIN:VCALENDAR
VERSION:2.0
PRODID:-//RuF Westerende - ECPv6.15.20//NONSGML v1.0//EN
CALSCALE:GREGORIAN
METHOD:PUBLISH
X-ORIGINAL-URL:https://ruf-westerende.com
X-WR-CALDESC:Veranstaltungen für RuF Westerende
REFRESH-INTERVAL;VALUE=DURATION:PT1H
X-Robots-Tag:noindex
X-PUBLISHED-TTL:PT1H
BEGIN:VTIMEZONE
TZID:Europe/Berlin
BEGIN:DAYLIGHT
TZOFFSETFROM:+0100
TZOFFSETTO:+0200
TZNAME:CEST
DTSTART:20230326T010000
END:DAYLIGHT
BEGIN:STANDARD
TZOFFSETFROM:+0200
TZOFFSETTO:+0100
TZNAME:CET
DTSTART:20231029T010000
END:STANDARD
BEGIN:DAYLIGHT
TZOFFSETFROM:+0100
TZOFFSETTO:+0200
TZNAME:CEST
DTSTART:20240331T010000
END:DAYLIGHT
BEGIN:STANDARD
TZOFFSETFROM:+0200
TZOFFSETTO:+0100
TZNAME:CET
DTSTART:20241027T010000
END:STANDARD
BEGIN:DAYLIGHT
TZOFFSETFROM:+0100
TZOFFSETTO:+0200
TZNAME:CEST
DTSTART:20250330T010000
END:DAYLIGHT
BEGIN:STANDARD
TZOFFSETFROM:+0200
TZOFFSETTO:+0100
TZNAME:CET
DTSTART:20251026T010000
END:STANDARD
END:VTIMEZONE
BEGIN:VEVENT
DTSTART;TZID=Europe/Berlin:20240908T110000
DTEND;TZID=Europe/Berlin:20240908T170000
DTSTAMP:20260420T205301
CREATED:20240705T091807Z
LAST-MODIFIED:20240705T091814Z
UID:777-1725793200-1725814800@ruf-westerende.com
SUMMARY:Hallenflohmarkt
DESCRIPTION:Hallenflohmarkt im RFV Westerende
URL:https://ruf-westerende.com/event/hallenflohmarkt/
LOCATION:RFV Westerende\, Westerenderstr. 11\, 26532 Westerende/ Großheide
ORGANIZER;CN="RFV Westerende":MAILTO:rjakobs@t-online.de
END:VEVENT
BEGIN:VEVENT
DTSTART;VALUE=DATE:20240912
DTEND;VALUE=DATE:20240914
DTSTAMP:20260420T205301
CREATED:20240901T160751Z
LAST-MODIFIED:20240901T160751Z
UID:1200-1726099200-1726271999@ruf-westerende.com
SUMMARY:Spring- und Geländetraining bei Anna Alberts
DESCRIPTION:Lehrgang Anna Alberts September
URL:https://ruf-westerende.com/event/spring-und-gelaendetraining-bei-anna-alberts/
LOCATION:RFV Westerende\, Westerenderstr. 11\, 26532 Westerende/ Großheide
ORGANIZER;CN="RFV Westerende":MAILTO:rjakobs@t-online.de
END:VEVENT
END:VCALENDAR