BEGIN:VCALENDAR
VERSION:2.0
PRODID:-//RuF Westerende - ECPv6.15.20//NONSGML v1.0//EN
CALSCALE:GREGORIAN
METHOD:PUBLISH
X-ORIGINAL-URL:https://ruf-westerende.com
X-WR-CALDESC:Veranstaltungen für RuF Westerende
REFRESH-INTERVAL;VALUE=DURATION:PT1H
X-Robots-Tag:noindex
X-PUBLISHED-TTL:PT1H
BEGIN:VTIMEZONE
TZID:Europe/Berlin
BEGIN:DAYLIGHT
TZOFFSETFROM:+0100
TZOFFSETTO:+0200
TZNAME:CEST
DTSTART:20230326T010000
END:DAYLIGHT
BEGIN:STANDARD
TZOFFSETFROM:+0200
TZOFFSETTO:+0100
TZNAME:CET
DTSTART:20231029T010000
END:STANDARD
BEGIN:DAYLIGHT
TZOFFSETFROM:+0100
TZOFFSETTO:+0200
TZNAME:CEST
DTSTART:20240331T010000
END:DAYLIGHT
BEGIN:STANDARD
TZOFFSETFROM:+0200
TZOFFSETTO:+0100
TZNAME:CET
DTSTART:20241027T010000
END:STANDARD
BEGIN:DAYLIGHT
TZOFFSETFROM:+0100
TZOFFSETTO:+0200
TZNAME:CEST
DTSTART:20250330T010000
END:DAYLIGHT
BEGIN:STANDARD
TZOFFSETFROM:+0200
TZOFFSETTO:+0100
TZNAME:CET
DTSTART:20251026T010000
END:STANDARD
END:VTIMEZONE
BEGIN:VEVENT
DTSTART;TZID=Europe/Berlin:20240309T180000
DTEND;TZID=Europe/Berlin:20240309T233000
DTSTAMP:20260421T073244
CREATED:20231028T115605Z
LAST-MODIFIED:20231028T115605Z
UID:471-1710007200-1710027000@ruf-westerende.com
SUMMARY:Reiterball Westerende
DESCRIPTION:
URL:https://ruf-westerende.com/event/reiterball-westerende/
END:VEVENT
BEGIN:VEVENT
DTSTART;TZID=Europe/Berlin:20240313T193000
DTEND;TZID=Europe/Berlin:20240313T213000
DTSTAMP:20260421T073244
CREATED:20240112T093638Z
LAST-MODIFIED:20240112T093638Z
UID:597-1710358200-1710365400@ruf-westerende.com
SUMMARY:Jahreshauptversammlung
DESCRIPTION:
URL:https://ruf-westerende.com/event/jahreshauptversammlung/
LOCATION:RFV Westerende\, Westerenderstr. 11\, 26532 Westerende/ Großheide
END:VEVENT
BEGIN:VEVENT
DTSTART;VALUE=DATE:20240324
DTEND;VALUE=DATE:20240325
DTSTAMP:20260421T073244
CREATED:20240112T093743Z
LAST-MODIFIED:20240117T121605Z
UID:599-1711238400-1711324799@ruf-westerende.com
SUMMARY:Reitabzeichenprüfung
DESCRIPTION:
URL:https://ruf-westerende.com/event/reitabzeichenpruefung/
LOCATION:RFV Westerende\, Westerenderstr. 11\, 26532 Westerende/ Großheide
END:VEVENT
END:VCALENDAR