BEGIN:VCALENDAR
VERSION:2.0
PRODID:-//RuF Westerende - ECPv6.15.20//NONSGML v1.0//EN
CALSCALE:GREGORIAN
METHOD:PUBLISH
X-ORIGINAL-URL:https://ruf-westerende.com
X-WR-CALDESC:Veranstaltungen für RuF Westerende
REFRESH-INTERVAL;VALUE=DURATION:PT1H
X-Robots-Tag:noindex
X-PUBLISHED-TTL:PT1H
BEGIN:VTIMEZONE
TZID:Europe/Berlin
BEGIN:DAYLIGHT
TZOFFSETFROM:+0100
TZOFFSETTO:+0200
TZNAME:CEST
DTSTART:20230326T010000
END:DAYLIGHT
BEGIN:STANDARD
TZOFFSETFROM:+0200
TZOFFSETTO:+0100
TZNAME:CET
DTSTART:20231029T010000
END:STANDARD
BEGIN:DAYLIGHT
TZOFFSETFROM:+0100
TZOFFSETTO:+0200
TZNAME:CEST
DTSTART:20240331T010000
END:DAYLIGHT
BEGIN:STANDARD
TZOFFSETFROM:+0200
TZOFFSETTO:+0100
TZNAME:CET
DTSTART:20241027T010000
END:STANDARD
BEGIN:DAYLIGHT
TZOFFSETFROM:+0100
TZOFFSETTO:+0200
TZNAME:CEST
DTSTART:20250330T010000
END:DAYLIGHT
BEGIN:STANDARD
TZOFFSETFROM:+0200
TZOFFSETTO:+0100
TZNAME:CET
DTSTART:20251026T010000
END:STANDARD
END:VTIMEZONE
BEGIN:VEVENT
DTSTART;VALUE=DATE:20240518
DTEND;VALUE=DATE:20240519
DTSTAMP:20260421T054157
CREATED:20240112T093840Z
LAST-MODIFIED:20240508T181932Z
UID:601-1715990400-1716076799@ruf-westerende.com
SUMMARY:Voltigierturnier
DESCRIPTION:Zeiteinteilung Voltigierturnier Westerende 2024 \nAusschreibung_Voltigierturnier Westerende 2024
URL:https://ruf-westerende.com/event/voltigierturnier/
LOCATION:RFV Westerende\, Westerenderstr. 11\, 26532 Westerende/ Großheide
END:VEVENT
END:VCALENDAR